BEGIN:VCALENDAR
VERSION:2.0
PRODID:regionsfraktion-gruene-hannover.de
METHOD:PUBLISH
BEGIN:VTIMEZONE
TZID:Europe/Berlin
X-LIC-LOCATION:Europe/Berlin
BEGIN:DAYLIGHT
TZOFFSETFROM:+0100
TZOFFSETTO:+0200
TZNAME:CEST
DTSTART:19700329T020000
RRULE:FREQ=YEARLY;INTERVAL=1;BYDAY=-1SU;BYMONTH=3
END:DAYLIGHT
BEGIN:STANDARD
TZOFFSETFROM:+0200
TZOFFSETTO:+0100
TZNAME:CET
DTSTART:19701025T030000
RRULE:FREQ=YEARLY;INTERVAL=1;BYDAY=-1SU;BYMONTH=10
END:STANDARD
END:VTIMEZONE
BEGIN:VEVENT
UID:551dcebb62ed66eb08407e9ef71270ae@regionsfraktion-gruene-hannover.de
URL;VALUE=URI:http://ris.hannit.de/public/to010?SILFDNR=2003830
LOCATION:
SUMMARY:Regionsversammlung
DESCRIPTION;ALTREP="data:text/html,%3Cp%3EExportiert%20am%2021.04.2026%3C
 br%20%2F%3E%0A%3Cbr%20%2F%3E%0ADie%20Sitzung%20in%20ALLRIS%20net%3A%3Cbr%
 20%2F%3E%0Ahttp%3A%2F%2Fris.hannit.de%2Fpublic%2Fto010%3FSILFDNR%3D200383
 0%3C%2Fp%3E%3Cp%3E%3Ca%20href%3D%22http%3A%2F%2Fris.hannit.de%2Fpublic%2F
 to010%3FSILFDNR%3D2003830%22%20title%3D%22Link%20in%20einem%20neuen%20Tab
 %20%C3%B6ffnen%22%20target%3D%22_blank%22%3EWeitere%20Informationen%26nbs
 p%3B%3Ci%20class%3D%22fa-solid%20fa-up-right-from-square%22%3E%3C%2Fi%3E%
 3C%2Fa%3E%3C%2Fp%3E":Exportiert am 21.04.2026\n\nDie Sitzung in ALLRIS ne
 t:\n\nhttp://ris.hannit.de/public/to010?SILFDNR=2003830Weitere Informatio
 nen 
CLASS:PUBLIC
DTSTART;TZID=Europe/Berlin:20260421T140000
DTEND;TZID=Europe/Berlin:20260422T000000
DTSTAMP:20260421T124236
END:VEVENT
END:VCALENDAR